BEGIN:VCALENDAR
VERSION:2.0
PRODID:-//Regensburg Center for Ultrafast Nanoscopy - ECPv6.6.4.1//NONSGML v1.0//EN
CALSCALE:GREGORIAN
METHOD:PUBLISH
X-WR-CALNAME:Regensburg Center for Ultrafast Nanoscopy
X-ORIGINAL-URL:https://run-regensburg.de
X-WR-CALDESC:Events for Regensburg Center for Ultrafast Nanoscopy
REFRESH-INTERVAL;VALUE=DURATION:PT1H
X-Robots-Tag:noindex
X-PUBLISHED-TTL:PT1H
BEGIN:VTIMEZONE
TZID:Europe/Berlin
BEGIN:DAYLIGHT
TZOFFSETFROM:+0100
TZOFFSETTO:+0200
TZNAME:CEST
DTSTART:20240331T010000
END:DAYLIGHT
BEGIN:STANDARD
TZOFFSETFROM:+0200
TZOFFSETTO:+0100
TZNAME:CET
DTSTART:20241027T010000
END:STANDARD
END:VTIMEZONE
BEGIN:VEVENT
DTSTART;TZID=Europe/Berlin:20240705T141500
DTEND;TZID=Europe/Berlin:20240705T154500
DTSTAMP:20260423T084349
CREATED:20240222T091317Z
LAST-MODIFIED:20240619T142831Z
UID:1616-1720188900-1720194300@run-regensburg.de
SUMMARY:RUN Colloquium: Plasmonic Twistronics: Ultrafast Vector Microscopy
DESCRIPTION:Here we introduce a new technique\, time-resolved vector microscopy\, that enables us to compose entire movies on a sub-femtosecond time scale and a 10 nm scale of the electric field vectors of surface plasmon polaritons. Depending on the shape and geometrical phase\, in combination with the helicity of the excitation beam\, topological plasmonic quasiparticles are created: skyrmions\, merons\, as well as quasicrystalline excitations. We observe their complete field vector dynamics at subfemtosecond time resolution. We expand the concept also to plasmonic twistronics\, where we can identify skyrmion bags. \n\n\n\n\n\nProf. Dr. Harald Gießen
URL:https://run-regensburg.de/event/haraldgiesen/
CATEGORIES:RUN Colloquium
ATTACH;FMTTYPE=image/jpeg:https://run-regensburg.de/wp-content/uploads/2024/02/gh4_1025.jpg
END:VEVENT
END:VCALENDAR