BEGIN:VCALENDAR
VERSION:2.0
PRODID:-//Regensburg Center for Ultrafast Nanoscopy - ECPv6.6.4.1//NONSGML v1.0//EN
CALSCALE:GREGORIAN
METHOD:PUBLISH
X-ORIGINAL-URL:https://run-regensburg.de
X-WR-CALDESC:Events for Regensburg Center for Ultrafast Nanoscopy
REFRESH-INTERVAL;VALUE=DURATION:PT1H
X-Robots-Tag:noindex
X-PUBLISHED-TTL:PT1H
BEGIN:VTIMEZONE
TZID:Europe/Berlin
BEGIN:DAYLIGHT
TZOFFSETFROM:+0100
TZOFFSETTO:+0200
TZNAME:CEST
DTSTART:20250330T010000
END:DAYLIGHT
BEGIN:STANDARD
TZOFFSETFROM:+0200
TZOFFSETTO:+0100
TZNAME:CET
DTSTART:20251026T010000
END:STANDARD
END:VTIMEZONE
BEGIN:VEVENT
DTSTART;TZID=Europe/Berlin:20250120T161500
DTEND;TZID=Europe/Berlin:20250120T174500
DTSTAMP:20260421T153757
CREATED:20241108T100757Z
LAST-MODIFIED:20241108T111548Z
UID:3085-1737389700-1737395100@run-regensburg.de
SUMMARY:Young Colloquium:Zwischen Forschung und Interessen: Wie die Wissenschaft die politische Bühne prägt
DESCRIPTION:Prof. Dr. Andreas LöschelRuhr-Universität Bochum \n\n\n\n\n\n\n\n\n\n\n\n\n\n\n\n \n\n\n\n\n\n\n\n\n\n\n\n\n\n\n\nProf. Dr. Klaus RichterUniversität Regensburg
URL:https://run-regensburg.de/event/young-colloquiumzwischen-forschung-und-interessen-wie-die-wissenschaft-die-politische-buhne-pragt/
ATTACH;FMTTYPE=image/png:https://run-regensburg.de/wp-content/uploads/2024/11/csm_Website_Digital_Tafel_Website1_8be70d4ce3-1.png
END:VEVENT
END:VCALENDAR