BEGIN:VCALENDAR
VERSION:2.0
PRODID:-//Regensburg Center for Ultrafast Nanoscopy - ECPv6.6.4.1//NONSGML v1.0//EN
CALSCALE:GREGORIAN
METHOD:PUBLISH
X-WR-CALNAME:Regensburg Center for Ultrafast Nanoscopy
X-ORIGINAL-URL:https://run-regensburg.de
X-WR-CALDESC:Events for Regensburg Center for Ultrafast Nanoscopy
REFRESH-INTERVAL;VALUE=DURATION:PT1H
X-Robots-Tag:noindex
X-PUBLISHED-TTL:PT1H
BEGIN:VTIMEZONE
TZID:Europe/Berlin
BEGIN:DAYLIGHT
TZOFFSETFROM:+0100
TZOFFSETTO:+0200
TZNAME:CEST
DTSTART:20240331T010000
END:DAYLIGHT
BEGIN:STANDARD
TZOFFSETFROM:+0200
TZOFFSETTO:+0100
TZNAME:CET
DTSTART:20241027T010000
END:STANDARD
END:VTIMEZONE
BEGIN:VEVENT
DTSTART;TZID=Europe/Berlin:20240607T141500
DTEND;TZID=Europe/Berlin:20240607T154500
DTSTAMP:20260424T202243
CREATED:20240606T123047Z
LAST-MODIFIED:20240606T123118Z
UID:2684-1717769700-1717775100@run-regensburg.de
SUMMARY:GRK Colloquium: From structure to function - understanding how proteins tick
DESCRIPTION:Prof. Dr. Christine Ziegler
URL:https://run-regensburg.de/event/grk-colloquium-from-structure-to-function-understanding-how-proteins-tick/
ATTACH;FMTTYPE=image/jpeg:https://run-regensburg.de/wp-content/uploads/Team/Ziegler.jpg
END:VEVENT
END:VCALENDAR